BEGIN:VCALENDAR
METHOD:PUBLISH
VERSION:2.0
CALSCALE:GREGORIAN
PRODID:-//NONSGML WPForms//NONSGML Sugar Calendar Feeds v3.11.0//EN
X-WR-CALNAME:WGR State Directors - National Summit 2026
X-WR-CALDESC:Women for Gun Rights
X-WR-TIMEZONE:America/New_York
BEGIN:VTIMEZONE
TZID:America/New_York
BEGIN:DAYLIGHT
TZOFFSETFROM:-0400
TZOFFSETTO:-0400
DTSTART:20260313T120000
TZNAME:EDT
END:DAYLIGHT
END:VTIMEZONE
BEGIN:VTIMEZONE
TZID:America/New_York
BEGIN:DAYLIGHT
TZOFFSETFROM:-0400
TZOFFSETTO:-0400
DTSTART:20260313T120000
TZNAME:EDT
END:DAYLIGHT
END:VTIMEZONE
BEGIN:VEVENT
SUMMARY:WGR State Directors - National Summit 2026
DESCRIPTION:State Directors.\nYour presence in Washington\, D.C. matters
 .\nAs a Women for Gun Rights State Director\, you are not simply attendi
 ng this event\, you are helping lead it by your example\, your voice\, a
 nd your commitment to the mission. This gathering is an important opport
 unity for our leadership team to stand together in the nation’s capita
 l\, strengthen relationships\, sharpen our message\, and demonstrate the
  unity and seriousness of Women for Gun Rights on a national stage.\nBec
 ause your participation is so important\, Women for Gun Rights will cove
 r your hotel and airfare\, and there will be no cost for you to attend t
 he Gala or other Summit activities. We want every State Director fully p
 resent\, fully engaged\, and focused on representing the women we serve 
 in your state and across the country.\nThis weekend is about more than a
 ttendance. It is about leadership. From the kickoff Gala to training\, t
 he Capitol rally\, and time on Capitol Hill\, your presence helps set th
 e tone for our members\, inspires others to step forward\, and reinforce
 s the strength of our movement.\nThe Summit Agenda\nSaturday\, September
  12\, 2026\nGala Evening | 5:30 PM – 9:30 PM\nBegin the weekend with a
 n elegant and memorable evening alongside fellow supporters\, leaders\, 
 and advocates who care deeply about freedom\, faith\, safety\, and the f
 uture of our country.  This special gala is more than a dinner. It is t
 he ceremonial launch of the weekend a chance to gather in a more intimat
 e setting\, celebrate shared values\, and enjoy an evening that feels bo
 th meaningful and elevated. Guests will enjoy a beautiful atmosphere\, i
 nspiring remarks\, and the anticipation of a special featured speaker\, 
 to be announced. This is the perfect entry point for those who want a ta
 ste of the weekend\, and for full-weekend attendees\, it sets the tone f
 or what follows: connection\, purpose\, and action.\n\nSunday\, Septembe
 r 13\, 2026\nConference Experience | 8:00 AM – 2:30 PM\nSunday is wher
 e inspiration turns into preparation. Our daytime conference is designed
  to equip attendees with the knowledge\, context\, and confidence to bet
 ter understand the issues\, articulate their beliefs\, and represent the
  Second Amendment with clarity and conviction. This is not passive progr
 amming. It is active\, practical\, and built for patriots who want to en
 gage effectively.\n\n Conference Topics Include:\n\n\n 	Leading- Where y
 ou are\n 	Civics 101\n 	The Second Amendment in today's landscape\n 	2A 
 history and constitutional grounding\n 	Mock meetings with lawmakers and
  staff\n\nLunch on Your Own at Union Station – Flash Mob “National A
 nthem”\nAttendees will break for lunch at Union Station\, giving every
 one a chance to relax\, explore\, and enjoy one of Washington’s iconic
  gathering places.  Join us in a “flash mob” of the grand room whil
 e our MA State Director\, Kerrie Ann Auclair\, sings the National Anthem
 . It will be an energizing\, patriotic public moment designed to unite a
 ttendees in a visible and unforgettable expression of love for country!\
 n\nRally | 3:00 PM – 5:00 PM [West Side of the Capitol Area 15] – s
 ee attached Map\nOn Sunday afternoon\, we gather publicly and powerfully
  in front of our nation’s capital.\n* Show our peaceful presence in su
 pport of the 2A\n* Hear from inspiring speakers\n* A chance to stand pub
 licly for freedom\n* Create a memorable visual in Washington\, D.C.\n\nE
 vening Tours [Free Time]\nAs the day winds down\, attendees can enjoy a 
 free Sunday night\, taking in the sights of our historic capital\, offer
 ing a more personal and memorable way to experience Washington after hou
 rs.\nThis is where the weekend broadens from advocacy into experience. S
 eeing the monuments\, memorials\, and historic spaces of D.C. in the eve
 ning creates a sense of gravity and gratitude that perfectly matches the
  spirit of the event.\n\nMonday\, September 14\, 2026. Capitol Hill Expe
 rience\nMonday is the moment many attendees will remember most.\nThe Ca
 pitol Hill Experience is your opportunity to step into the environment 
 where national decisions are made and to see firsthand how advocacy\, po
 licy\, and presence intersect. This is where the weekend becomes real in
  a different way — not just learning about civic engagement\, but expe
 riencing it up close.\n\nFor many women\, this part of the event will be
  both empowering and unforgettable. Walking the Hill\, participating in 
 the atmosphere\, and being part of a coordinated presence in Washington 
 reminds attendees that engaged citizens still matter — and that inform
 ed\, principled voices belong in the conversation.\n\nTuesday\, Septembe
 r 15\, 2026\nRegular scheduled programming with small groups meeting wit
 h legislative members at congressional offices.\n\nWednesday\, September
  16\, 2026\nDeparture!\n\nJoin Us in Washington!\nReserve your place. Se
 ats are limited! Be part of the experience.\n\n&nbsp\;
URL;VALUE=URI:https://womenforgunrights.org/events/wgr-national-summit-2
UID:urn:uuid:f26c6f89-aa84-4f1d-b2f3-543b2da63a4b
STATUS:CONFIRMED
ORGANIZER:
DTSTAMP:20260425T161904Z
DTSTART;VALUE=DATE:20260912
DTEND;VALUE=DATE:20260916
LOCATION:415 New Jersey Ave NW
END:VEVENT
END:VCALENDAR